BEGIN:VCALENDAR
VERSION:2.0
PRODID:Imitheme.com
BEGIN:VEVENT
UID:20191224T040424-925540673
DTSTAMP:20191224T040424
DTSTART:20191226T193000
DTEND:20191226T210000
SUMMARY:Culto de Ensino
LOCATION:169 Symonds St, Eden Terrace. Auckland.
DESCRIPTION: Culto semanal em português.
END:VEVENT
END:VCALENDAR
