BEGIN:VCALENDAR
VERSION:2.0
PRODID:Imitheme.com
BEGIN:VEVENT
UID:20191224T035850-1246959886
DTSTAMP:20191224T035850
DTSTART:20191219T193000
DTEND:20191219T210000
SUMMARY:Culto de Ensino
LOCATION:169 Symonds St, Eden Terrace. Auckland.
DESCRIPTION: Culto semanal em português.
END:VEVENT
END:VCALENDAR
