BEGIN:VCALENDAR
VERSION:2.0
PRODID:Imitheme.com
BEGIN:VEVENT
UID:20191224T040003-187298674
DTSTAMP:20191224T040003
DTSTART:20190711T193000
DTEND:20190711T210000
SUMMARY:Culto Vertical
LOCATION:169 Symonds St, Eden Terrace. Auckland.
DESCRIPTION: O culto de jovens para jovens!
END:VEVENT
END:VCALENDAR
