BEGIN:VCALENDAR
VERSION:2.0
PRODID:Imitheme.com 
BEGIN:VEVENT
UID:20191224T0402211649239177
DTSTAMP;TZID=UTC:20191224T040221
DTSTART;TZID=UTC:20191222T190000
DTEND;TZID=UTC:20191222T210000
SUMMARY:Culto Agape
LOCATION:169 Symonds St\, Eden Terrace. Auckland.
DESCRIPTION:Culto semanal em língua portuguesa com tradução simultânea para o inglês.
END:VEVENT
END:VCALENDAR
