BEGIN:VCALENDAR
VERSION:2.0
PRODID:Imitheme.com 
BEGIN:VEVENT
UID:20191224T04013329211538
DTSTAMP;TZID=UTC:20191224T040133
DTSTART;TZID=UTC:20190711T120000
DTEND;TZID=UTC:20190711T140000
SUMMARY:Feijoada (Brazilian Cultural Festival)
LOCATION:169 Symonds St\, Eden Terrace. Auckland.
DESCRIPTION:O festival de comida com o prato especial do Brasil. Preço $15. Mais detalhes\: Feijoada
END:VEVENT
END:VCALENDAR
