BEGIN:VCALENDAR
VERSION:2.0
PRODID:Imitheme.com 
BEGIN:VEVENT
UID:20191224T0357491236938479
DTSTAMP;TZID=UTC:20191224T035749
DTSTART;TZID=UTC:20191219T193000
DTEND;TZID=UTC:20191219T210000
SUMMARY:Teaching Service
LOCATION:169 Symonds St\, Eden Terrace. Auckland.
DESCRIPTION:Weekly service in Portuguese.
END:VEVENT
END:VCALENDAR
