BEGIN:VCALENDAR
VERSION:2.0
PRODID:Imitheme.com 
BEGIN:VEVENT
UID:20191224T0403203625130
DTSTAMP;TZID=UTC:20191224T040320
DTSTART;TZID=UTC:20191222T190000
DTEND;TZID=UTC:20191222T210000
SUMMARY:Agape Service
LOCATION:169 Symonds St\, Eden Terrace. Auckland.
DESCRIPTION:Weekly service in Portuguese with simultaneous translation into English.
END:VEVENT
END:VCALENDAR
